BEGIN:VCALENDAR
VERSION:2.0
PRODID:-//Laura&#039;s Sewing &amp; Quilt Shop - ECPv6.15.17.1//NONSGML v1.0//EN
CALSCALE:GREGORIAN
METHOD:PUBLISH
X-WR-CALNAME:Laura&#039;s Sewing &amp; Quilt Shop
X-ORIGINAL-URL:https://sewwithlaura.com
X-WR-CALDESC:Events for Laura&#039;s Sewing &amp; Quilt Shop
REFRESH-INTERVAL;VALUE=DURATION:PT1H
X-Robots-Tag:noindex
X-PUBLISHED-TTL:PT1H
BEGIN:VTIMEZONE
TZID:America/New_York
BEGIN:DAYLIGHT
TZOFFSETFROM:-0500
TZOFFSETTO:-0400
TZNAME:EDT
DTSTART:20250309T070000
END:DAYLIGHT
BEGIN:STANDARD
TZOFFSETFROM:-0400
TZOFFSETTO:-0500
TZNAME:EST
DTSTART:20251102T060000
END:STANDARD
BEGIN:DAYLIGHT
TZOFFSETFROM:-0500
TZOFFSETTO:-0400
TZNAME:EDT
DTSTART:20260308T070000
END:DAYLIGHT
BEGIN:STANDARD
TZOFFSETFROM:-0400
TZOFFSETTO:-0500
TZNAME:EST
DTSTART:20261101T060000
END:STANDARD
BEGIN:DAYLIGHT
TZOFFSETFROM:-0500
TZOFFSETTO:-0400
TZNAME:EDT
DTSTART:20270314T070000
END:DAYLIGHT
BEGIN:STANDARD
TZOFFSETFROM:-0400
TZOFFSETTO:-0500
TZNAME:EST
DTSTART:20271107T060000
END:STANDARD
END:VTIMEZONE
BEGIN:VEVENT
DTSTART;TZID=America/New_York:20260423T110000
DTEND;TZID=America/New_York:20260423T150000
DTSTAMP:20260423T150410
CREATED:20251122T165751Z
LAST-MODIFIED:20260323T014601Z
UID:10003777-1776942000-1776956400@sewwithlaura.com
SUMMARY:Sit N Sew at Palm Beach Gardens
DESCRIPTION:Sit N Sew at Palm Beach Gardens \nCome in with your project and share ideas with other sewers!  Every Thursday from 11 am to 3 pm
URL:https://sewwithlaura.com/event/sit-n-sew-at-palm-beach-gardens-2/2026-04-23/
LOCATION:Palm Beach Gardens\, 3966 Northlake Blvd\, Palm Beach Gardens\, FL\, 33403\, United States
END:VEVENT
BEGIN:VEVENT
DTSTART;TZID=America/New_York:20260425T103000
DTEND;TZID=America/New_York:20260425T163000
DTSTAMP:20260423T150411
CREATED:20260116T032918Z
LAST-MODIFIED:20260413T010623Z
UID:10002683-1777113000-1777134600@sewwithlaura.com
SUMMARY:Stitch\, Create\, Celebrate!
DESCRIPTION:Stitch\, Create\, Celebrate! \nJoin me for a fun\, hands-on class where you’ll explore your creativity with sewing\, quilting\, and in-the-hoop embroidery skills to make beautiful projects. From bags and wallets to table runners and pillows\, each project is picked a couple of months in advance—so there’s always something new to make. All skill levels welcome—let’s stitch\, create\, and celebrate together! \nFrequency:  4th Saturday of every month\nTime:  10:30 am – 4:30 pm\nInstructor: Lorrie Shreve\nClass Fee:  $40\nPhone: 402-416-0251\nEmail: divwido@gmail.com \nTo register\, please text the number above and Lorrie will send you the supply list for that month’s project.
URL:https://sewwithlaura.com/event/stitch-create-celebrate-2-4/
LOCATION:Palm Beach Gardens\, 3966 Northlake Blvd\, Palm Beach Gardens\, FL\, 33403\, United States
CATEGORIES:Sewing
ORGANIZER;CN="Lorrie Shreve":MAILTO:sewwithlaura_calendar@yahoo.com
END:VEVENT
BEGIN:VEVENT
DTSTART;TZID=America/New_York:20260426T103000
DTEND;TZID=America/New_York:20260426T160000
DTSTAMP:20260423T150411
CREATED:20260322T235343Z
LAST-MODIFIED:20260322T235929Z
UID:10002985-1777199400-1777219200@sewwithlaura.com
SUMMARY:Beginning Quilting
DESCRIPTION:Beginning Quilting\n        \nIf you have been wanting to learn to quilt or tried to quilt on your own and ran into obstacles\, then this series is for you. We’ll cover everything from start to finish while constructing a beginner-friendly quilt. We’ll start with the basics – quilting terms\, how to read a pattern\, proper technique using a rotary cutter\, etc. – and then continue on thru piecing the blocks\, putting them together\, then quilting and binding. After the five classes\, you’ll have a finished quilt that you’ll be proud to say “I made that” – I promise!!\n\nDate: Sundays April 26\, May 3\, 24\, 31 and June 7\, 2026\nTime: 10:30 am – 4:00 pm with lunch breaks and multiple stretch breaks\nInstructor:  Gloria Herman\nClass fee:  $200 plus supplies; $50 deposit required to hold your place in class.\nMax class size – 8 students\nPhone:  561-348-4101 (texting only please) to register for the class\nEmail: gloherman@yahoo.com \n\nAn extensive handout with photos is provided. \nThe class will all be making the same pattern\, but you will choose fabrics that work for YOU! A pretty focal fabric\, a complimentary fabric and a light background will be what you’ll need. I’m in the store every Wednesday and Saturday if you need assistance\, as well as anyone else who works at the store can help you. I will be making the sample quilt in December/January and will post when it is finished. I’ve attached a photo of the quilts made in the last session – the one our class will be sewing will be similar in that we’ll be focusing on half-square triangles\, which is one of the basic units used in quilting. \nHope to see you in class!!
URL:https://sewwithlaura.com/event/beginning-quilting-2/2026-04-26/
LOCATION:FL
END:VEVENT
BEGIN:VEVENT
DTSTART;TZID=America/New_York:20260427T103000
DTEND;TZID=America/New_York:20260427T170000
DTSTAMP:20260423T150411
CREATED:20260118T225901Z
LAST-MODIFIED:20260323T030024Z
UID:10000674-1777285800-1777309200@sewwithlaura.com
SUMMARY:Monthly Embroidery Class
DESCRIPTION:Embroidery Class with Linda \nDate: 4th Monday of every month\nTime:  10:30 am – 5:00 pm\nInstructor: Linda Cutting\nClass fee: $30\nSupplies: Call instructor for supply list\nPhone: 561-523-9419\nEmail: msnermal@bellsouth.net \nPlease have your embroidery machine in good working order.
URL:https://sewwithlaura.com/event/monthly-embroidery-class-2/2026-04-27/
LOCATION:Palm Beach Gardens\, 3966 Northlake Blvd\, Palm Beach Gardens\, FL\, 33403\, United States
CATEGORIES:Embroidery
END:VEVENT
BEGIN:VEVENT
DTSTART;TZID=America/New_York:20260429T103000
DTEND;TZID=America/New_York:20260429T153000
DTSTAMP:20260423T150411
CREATED:20260318T030728Z
LAST-MODIFIED:20260323T010240Z
UID:10002976-1777458600-1777476600@sewwithlaura.com
SUMMARY:Cosmetic Nesting Trio Boxy Bags
DESCRIPTION:Cosmetic Nesting Trio Boxy Bags \nLearn how to construct three (3) sizes with NO visible seams. \nDate: April 29\, 2026\nTime: 10:30 am – 3:30 pm\nInstructor: Gail O’Neill\nClass Cost: $25\nPhone:  914-329-6966 \nPlease contact Gail to register for the class and obtain the supply list.
URL:https://sewwithlaura.com/event/cosmetic-nesting-trio-boxy-bags/
LOCATION:Palm Beach Gardens\, 3966 Northlake Blvd\, Palm Beach Gardens\, FL\, 33403\, United States
END:VEVENT
BEGIN:VEVENT
DTSTART;TZID=America/New_York:20260430T130000
DTEND;TZID=America/New_York:20260430T160000
DTSTAMP:20260423T150411
CREATED:20260323T004541Z
LAST-MODIFIED:20260323T004541Z
UID:10003241-1777554000-1777564800@sewwithlaura.com
SUMMARY:Coloring Class
DESCRIPTION:Coloring Class \nSpecial Date: April 30\, 2026\nTime: 1:00 pm – 4:00 pm\nInstructor: Margaret Starr\nPhone:  954-821-1314\nEmail: starr12345@aol.com
URL:https://sewwithlaura.com/event/coloring-class/
LOCATION:Palm Beach Gardens\, 3966 Northlake Blvd\, Palm Beach Gardens\, FL\, 33403\, United States
END:VEVENT
END:VCALENDAR