BEGIN:VCALENDAR
VERSION:2.0
PRODID:-//Laura&#039;s Sewing &amp; Quilt Shop - ECPv6.15.17.1//NONSGML v1.0//EN
CALSCALE:GREGORIAN
METHOD:PUBLISH
X-ORIGINAL-URL:https://sewwithlaura.com
X-WR-CALDESC:Events for Laura&#039;s Sewing &amp; Quilt Shop
REFRESH-INTERVAL;VALUE=DURATION:PT1H
X-Robots-Tag:noindex
X-PUBLISHED-TTL:PT1H
BEGIN:VTIMEZONE
TZID:America/New_York
BEGIN:DAYLIGHT
TZOFFSETFROM:-0500
TZOFFSETTO:-0400
TZNAME:EDT
DTSTART:20240310T070000
END:DAYLIGHT
BEGIN:STANDARD
TZOFFSETFROM:-0400
TZOFFSETTO:-0500
TZNAME:EST
DTSTART:20241103T060000
END:STANDARD
BEGIN:DAYLIGHT
TZOFFSETFROM:-0500
TZOFFSETTO:-0400
TZNAME:EDT
DTSTART:20250309T070000
END:DAYLIGHT
BEGIN:STANDARD
TZOFFSETFROM:-0400
TZOFFSETTO:-0500
TZNAME:EST
DTSTART:20251102T060000
END:STANDARD
BEGIN:DAYLIGHT
TZOFFSETFROM:-0500
TZOFFSETTO:-0400
TZNAME:EDT
DTSTART:20260308T070000
END:DAYLIGHT
BEGIN:STANDARD
TZOFFSETFROM:-0400
TZOFFSETTO:-0500
TZNAME:EST
DTSTART:20261101T060000
END:STANDARD
END:VTIMEZONE
BEGIN:VEVENT
DTSTART;TZID=America/New_York:20250831T110000
DTEND;TZID=America/New_York:20250831T150000
DTSTAMP:20260423T120346
CREATED:20250720T220029Z
LAST-MODIFIED:20250720T220052Z
UID:10001978-1756638000-1756652400@sewwithlaura.com
SUMMARY:Bucket of Charms
DESCRIPTION:Bucket of Charms Class \nMake this fun medium size bucket in class. Pattern (includes 3 sizes) uses mini charms\, charms\, or use scraps from your favorite fabric.  Great to give as a gift for the holidays! \nDate: August 31\, 2025\nTime: 11:00 am – 3:00 pm\nInstructor:  Linda Adamcik\nClass fee: $30 (cash)\nPhone: 561-310-1363\nEmail: quiltingqueen1010@gmail.com \nContact Linda Adamcik for the supply list\, pre-class prep work\, and information to order the pattern. \nHope to see you there!
URL:https://sewwithlaura.com/event/bucket-of-charms/
LOCATION:Palm Beach Gardens\, 3966 Northlake Blvd\, Palm Beach Gardens\, FL\, 33403\, United States
END:VEVENT
BEGIN:VEVENT
DTSTART;TZID=America/New_York:20250901T100000
DTEND;TZID=America/New_York:20250901T170000
DTSTAMP:20260423T120346
CREATED:20250828T014021Z
LAST-MODIFIED:20250828T014556Z
UID:10002410-1756720800-1756746000@sewwithlaura.com
SUMMARY:Shop Closed - Labor Day
DESCRIPTION:See you Tuesday!
URL:https://sewwithlaura.com/event/store-closed-labor-day/
LOCATION:FL
END:VEVENT
BEGIN:VEVENT
DTSTART;TZID=America/New_York:20250901T100000
DTEND;TZID=America/New_York:20250901T170000
DTSTAMP:20260423T120346
CREATED:20250828T014751Z
LAST-MODIFIED:20250831T032536Z
UID:10001706-1756720800-1756746000@sewwithlaura.com
SUMMARY:Cancelled - IQ Designer/My Design Center - Hands On Instruction
DESCRIPTION:Class cancelled due to Labor Day Holiday. \nInstructor:  Francine Kind
URL:https://sewwithlaura.com/event/iq-designer-my-design-center-hands-on-instruction/
LOCATION:Palm Beach Gardens\, 3966 Northlake Blvd\, Palm Beach Gardens\, FL\, 33403\, United States
ATTACH;FMTTYPE=image/jpeg:https://sewwithlaura.com/wp-content/uploads/2025/04/francine-scaled.jpg
ORGANIZER;CN="Francine Kind":MAILTO:fmkind@gmail.com
END:VEVENT
BEGIN:VEVENT
DTSTART;TZID=America/New_York:20250902T110000
DTEND;TZID=America/New_York:20250902T160000
DTSTAMP:20260423T120346
CREATED:20250703T001817Z
LAST-MODIFIED:20250715T002708Z
UID:10001856-1756810800-1756828800@sewwithlaura.com
SUMMARY:Sun Painting Workshop
DESCRIPTION:  \nCreate your own one-of-a-kind fabric using special fabric paints! \nWe will learn what paints can be used\, what objects give the best image results\, and how to achieve special effects. \n  \nInstructor: Pat Steele \nPhone: 561-267-9983 \nEmail: pandoradesigns@yahoo.com \nNote: Class cost ($40) includes all supplies used in the class. \n\n***Bonus Mini Class*** \nIntroduction to lnktense on Fabric\nWhile our paintings are drying\, we’ll explore an introduction to Inktense on fabric.  These are solid ink pigments in pencil and block form and are activated with water\, fabric medium\, or even aloe vera gel become permanent on fabric \n \nNeed more information\, please reach out to the instructor.
URL:https://sewwithlaura.com/event/sun-painting-workshop/
LOCATION:Palm Beach Gardens\, 3966 Northlake Blvd\, Palm Beach Gardens\, FL\, 33403\, United States
ORGANIZER;CN="Pat Steele":MAILTO:pandoradesigns@yahoo.com
END:VEVENT
BEGIN:VEVENT
DTSTART;TZID=America/New_York:20250905T110000
DTEND;TZID=America/New_York:20250905T150000
DTSTAMP:20260423T120346
CREATED:20250507T000926Z
LAST-MODIFIED:20250805T015312Z
UID:10002177-1757070000-1757084400@sewwithlaura.com
SUMMARY:Intermediate Quilting with Gloria
DESCRIPTION:Intermediate Quilting with Gloria\n\nSaturday July 5\nSaturday August 2\nSunday August 17\nFriday September 5\n\n10:30 am – 4 pm\n\nInstructor:  Gloria Herman\nClass fee:\nPhone:  561-348-4101\nEmail: gloherman@yahoo.com
URL:https://sewwithlaura.com/event/intermediate-quilting-with-gloria/2025-09-05/
LOCATION:Palm Beach Gardens\, 3966 Northlake Blvd\, Palm Beach Gardens\, FL\, 33403\, United States
END:VEVENT
END:VCALENDAR