BEGIN:VCALENDAR
VERSION:2.0
PRODID:-//Laura&#039;s Sewing &amp; Quilt Shop - ECPv6.15.17.1//NONSGML v1.0//EN
CALSCALE:GREGORIAN
METHOD:PUBLISH
X-ORIGINAL-URL:https://sewwithlaura.com
X-WR-CALDESC:Events for Laura&#039;s Sewing &amp; Quilt Shop
REFRESH-INTERVAL;VALUE=DURATION:PT1H
X-Robots-Tag:noindex
X-PUBLISHED-TTL:PT1H
BEGIN:VTIMEZONE
TZID:America/New_York
BEGIN:DAYLIGHT
TZOFFSETFROM:-0500
TZOFFSETTO:-0400
TZNAME:EDT
DTSTART:20240310T070000
END:DAYLIGHT
BEGIN:STANDARD
TZOFFSETFROM:-0400
TZOFFSETTO:-0500
TZNAME:EST
DTSTART:20241103T060000
END:STANDARD
BEGIN:DAYLIGHT
TZOFFSETFROM:-0500
TZOFFSETTO:-0400
TZNAME:EDT
DTSTART:20250309T070000
END:DAYLIGHT
BEGIN:STANDARD
TZOFFSETFROM:-0400
TZOFFSETTO:-0500
TZNAME:EST
DTSTART:20251102T060000
END:STANDARD
BEGIN:DAYLIGHT
TZOFFSETFROM:-0500
TZOFFSETTO:-0400
TZNAME:EDT
DTSTART:20260308T070000
END:DAYLIGHT
BEGIN:STANDARD
TZOFFSETFROM:-0400
TZOFFSETTO:-0500
TZNAME:EST
DTSTART:20261101T060000
END:STANDARD
BEGIN:DAYLIGHT
TZOFFSETFROM:-0500
TZOFFSETTO:-0400
TZNAME:EDT
DTSTART:20270314T070000
END:DAYLIGHT
BEGIN:STANDARD
TZOFFSETFROM:-0400
TZOFFSETTO:-0500
TZNAME:EST
DTSTART:20271107T060000
END:STANDARD
END:VTIMEZONE
BEGIN:VEVENT
DTSTART;TZID=America/New_York:20260323T103000
DTEND;TZID=America/New_York:20260323T170000
DTSTAMP:20260423T172529
CREATED:20260118T225901Z
LAST-MODIFIED:20260323T030024Z
UID:10000673-1774261800-1774285200@sewwithlaura.com
SUMMARY:Monthly Embroidery Class
DESCRIPTION:Embroidery Class with Linda \nDate: 4th Monday of every month\nTime:  10:30 am – 5:00 pm\nInstructor: Linda Cutting\nClass fee: $30\nSupplies: Call instructor for supply list\nPhone: 561-523-9419\nEmail: msnermal@bellsouth.net \nPlease have your embroidery machine in good working order.
URL:https://sewwithlaura.com/event/monthly-embroidery-class-2/2026-03-23/
LOCATION:Palm Beach Gardens\, 3966 Northlake Blvd\, Palm Beach Gardens\, FL\, 33403\, United States
CATEGORIES:Embroidery
END:VEVENT
BEGIN:VEVENT
DTSTART;TZID=America/New_York:20260223T103000
DTEND;TZID=America/New_York:20260223T140000
DTSTAMP:20260423T172529
CREATED:20260210T011539Z
LAST-MODIFIED:20260210T015657Z
UID:10000672-1771842600-1771855200@sewwithlaura.com
SUMMARY:Monthly Embroidery Class
DESCRIPTION:Embroidery Class with Linda \nJoin me for a Block Party! \nDate: 4th Monday of every month\nTime:  10:30 am – 2:00 pm\nInstructor: Linda Cutting\nClass fee: $35 + $5 for kit\nPhone: 561-523-9419\nEmail: msnermal@bellsouth.net \nMust have a machine with a basting stitch capability and a 8”x 8” hoop area. \nYou Must pre-register.\nDeadline for registration is Friday\, February 20.\nCall Linda to make fabric selection. \nKit will include: fabric\, stabilizer and frame \nSupplies needed: \n\nEmbroidery Thread\, multiples of you chose\nBobbins\, white\nFrixon pen\nSnips
URL:https://sewwithlaura.com/event/monthly-embroidery-class-2-2/
LOCATION:Palm Beach Gardens\, 3966 Northlake Blvd\, Palm Beach Gardens\, FL\, 33403\, United States
END:VEVENT
BEGIN:VEVENT
DTSTART;TZID=America/New_York:20260126T103000
DTEND;TZID=America/New_York:20260126T170000
DTSTAMP:20260423T172529
CREATED:20260118T225901Z
LAST-MODIFIED:20260323T030024Z
UID:10000671-1769423400-1769446800@sewwithlaura.com
SUMMARY:Monthly Embroidery Class
DESCRIPTION:Embroidery Class with Linda \nDate: 4th Monday of every month\nTime:  10:30 am – 5:00 pm\nInstructor: Linda Cutting\nClass fee: $30\nSupplies: Call instructor for supply list\nPhone: 561-523-9419\nEmail: msnermal@bellsouth.net \nPlease have your embroidery machine in good working order.
URL:https://sewwithlaura.com/event/monthly-embroidery-class-2/2026-01-26/
LOCATION:Palm Beach Gardens\, 3966 Northlake Blvd\, Palm Beach Gardens\, FL\, 33403\, United States
CATEGORIES:Embroidery
END:VEVENT
BEGIN:VEVENT
DTSTART;TZID=America/New_York:20251222T103000
DTEND;TZID=America/New_York:20251222T170000
DTSTAMP:20260423T172530
CREATED:20250319T141319Z
LAST-MODIFIED:20250715T002019Z
UID:10000670-1766399400-1766422800@sewwithlaura.com
SUMMARY:Monthly Embroidery Class
DESCRIPTION:Embroidery Class with Linda \nDate: 4th Monday of every month\nTime:  10:30 am – 5:00 pm\nInstructor: Linda Cutting\nClass fee: $30\nSupplies: Call instructor for supply list\nPhone: 561-523-9419\nEmail: msnermal@bellsouth.net \nPlease have your embroidery machine in good working order.
URL:https://sewwithlaura.com/event/monthly-embroidery-class/2025-12-22/
LOCATION:Palm Beach Gardens\, 3966 Northlake Blvd\, Palm Beach Gardens\, FL\, 33403\, United States
ATTACH;FMTTYPE=image/webp:https://sewwithlaura.com/wp-content/uploads/2025/03/Embroidered-Cards.webp
END:VEVENT
BEGIN:VEVENT
DTSTART;TZID=America/New_York:20250623T103000
DTEND;TZID=America/New_York:20250623T170000
DTSTAMP:20260423T172530
CREATED:20250319T141319Z
LAST-MODIFIED:20250715T002019Z
UID:10000664-1750674600-1750698000@sewwithlaura.com
SUMMARY:Monthly Embroidery Class
DESCRIPTION:Embroidery Class with Linda \nDate: 4th Monday of every month\nTime:  10:30 am – 5:00 pm\nInstructor: Linda Cutting\nClass fee: $30\nSupplies: Call instructor for supply list\nPhone: 561-523-9419\nEmail: msnermal@bellsouth.net \nPlease have your embroidery machine in good working order.
URL:https://sewwithlaura.com/event/monthly-embroidery-class/2025-06-23/
LOCATION:Palm Beach Gardens\, 3966 Northlake Blvd\, Palm Beach Gardens\, FL\, 33403\, United States
ATTACH;FMTTYPE=image/webp:https://sewwithlaura.com/wp-content/uploads/2025/03/Embroidered-Cards.webp
END:VEVENT
BEGIN:VEVENT
DTSTART;TZID=America/New_York:20250526T103000
DTEND;TZID=America/New_York:20250526T170000
DTSTAMP:20260423T172530
CREATED:20250319T141319Z
LAST-MODIFIED:20250715T002019Z
UID:10000663-1748255400-1748278800@sewwithlaura.com
SUMMARY:Monthly Embroidery Class
DESCRIPTION:Embroidery Class with Linda \nDate: 4th Monday of every month\nTime:  10:30 am – 5:00 pm\nInstructor: Linda Cutting\nClass fee: $30\nSupplies: Call instructor for supply list\nPhone: 561-523-9419\nEmail: msnermal@bellsouth.net \nPlease have your embroidery machine in good working order.
URL:https://sewwithlaura.com/event/monthly-embroidery-class/2025-05-26/
LOCATION:Palm Beach Gardens\, 3966 Northlake Blvd\, Palm Beach Gardens\, FL\, 33403\, United States
ATTACH;FMTTYPE=image/webp:https://sewwithlaura.com/wp-content/uploads/2025/03/Embroidered-Cards.webp
END:VEVENT
BEGIN:VEVENT
DTSTART;TZID=America/New_York:20250428T103000
DTEND;TZID=America/New_York:20250428T170000
DTSTAMP:20260423T172530
CREATED:20250319T141319Z
LAST-MODIFIED:20250715T002019Z
UID:10000662-1745836200-1745859600@sewwithlaura.com
SUMMARY:Monthly Embroidery Class
DESCRIPTION:Embroidery Class with Linda \nDate: 4th Monday of every month\nTime:  10:30 am – 5:00 pm\nInstructor: Linda Cutting\nClass fee: $30\nSupplies: Call instructor for supply list\nPhone: 561-523-9419\nEmail: msnermal@bellsouth.net \nPlease have your embroidery machine in good working order.
URL:https://sewwithlaura.com/event/monthly-embroidery-class/2025-04-28/
LOCATION:Palm Beach Gardens\, 3966 Northlake Blvd\, Palm Beach Gardens\, FL\, 33403\, United States
ATTACH;FMTTYPE=image/webp:https://sewwithlaura.com/wp-content/uploads/2025/03/Embroidered-Cards.webp
END:VEVENT
BEGIN:VEVENT
DTSTART;TZID=America/New_York:20250324T103000
DTEND;TZID=America/New_York:20250324T170000
DTSTAMP:20260423T172530
CREATED:20250319T141319Z
LAST-MODIFIED:20250715T002019Z
UID:10000661-1742812200-1742835600@sewwithlaura.com
SUMMARY:Monthly Embroidery Class
DESCRIPTION:Embroidery Class with Linda \nDate: 4th Monday of every month\nTime:  10:30 am – 5:00 pm\nInstructor: Linda Cutting\nClass fee: $30\nSupplies: Call instructor for supply list\nPhone: 561-523-9419\nEmail: msnermal@bellsouth.net \nPlease have your embroidery machine in good working order.
URL:https://sewwithlaura.com/event/monthly-embroidery-class/2025-03-24/
LOCATION:Palm Beach Gardens\, 3966 Northlake Blvd\, Palm Beach Gardens\, FL\, 33403\, United States
ATTACH;FMTTYPE=image/webp:https://sewwithlaura.com/wp-content/uploads/2025/03/Embroidered-Cards.webp
END:VEVENT
END:VCALENDAR